BEGIN:VCALENDAR
VERSION:2.0
PRODID:-//Squarespace Inc/Squarespace 6//v6//EN
BEGIN:VEVENT
UID:54ae2cb6e4b0c9b72f23a0c8@squarespace.com
DTSTAMP:20150108T074700Z
DTSTART:20150411T023000Z
DTEND:20150411T073000Z
SUMMARY:WELLINGTON Dance Sport Competition 2015 
END:VEVENT
END:VCALENDAR
