BEGIN:VCALENDAR
VERSION:2.0
PRODID:-//Squarespace Inc/Squarespace 6//v6//EN
BEGIN:VEVENT
UID:539ff338e4b05bbc2dc5dd41@squarespace.com
DTSTAMP:20140623T101625Z
DTSTART:20140726T020000Z
DTEND:20140726T070000Z
SUMMARY:Sydney Same Sex Dance Competition
END:VEVENT
END:VCALENDAR
