BEGIN:VCALENDAR
VERSION:2.0
PRODID:-//Squarespace Inc/Squarespace 6//v6//EN
BEGIN:VEVENT
UID:52997b1fe4b0003dbaa21171@squarespace.com
DTSTAMP:20131130T055122Z
DTSTART:20140222T060000Z
DTEND:20140222T080000Z
SUMMARY:The Sydney International Same Sex Dance Championships
END:VEVENT
END:VCALENDAR
