BEGIN:VCALENDAR
VERSION:2.0
PRODID:-//Squarespace Inc/Squarespace 6//v6//EN
BEGIN:VEVENT
UID:5460174ee4b0b49a35e30616@squarespace.com
DTSTAMP:20141110T015214Z
DTSTART:20150125T030000Z
DTEND:20150125T050000Z
SUMMARY:Rainbow Sport and Culture Weekend 23 - 25 January 15
END:VEVENT
END:VCALENDAR
