BEGIN:VCALENDAR
VERSION:2.0
PRODID:-//Squarespace Inc/Squarespace 6//v6//EN
BEGIN:VEVENT
UID:52997d8ee4b07443d2da4cbe@squarespace.com
DTSTAMP:20131206T064744Z
DTSTART:20140511T070000Z
DTEND:20140511T110000Z
SUMMARY:3rd AsiaPacific Outgames
END:VEVENT
END:VCALENDAR
