BEGIN:VCALENDAR
VERSION:2.0
PRODID:-//Squarespace Inc/Squarespace 6//v6//EN
BEGIN:VEVENT
UID:52a181b7e4b0bbefdc2b8a7a@squarespace.com
DTSTAMP:20131206T081033Z
DTSTART:20090509T020000Z
DTEND:20090509T090000Z
SUMMARY:Wellington DANSS Inc Competition 2009
END:VEVENT
END:VCALENDAR
