BEGIN:VCALENDAR
VERSION:2.0
PRODID:-//Squarespace Inc/Squarespace 6//v6//EN
BEGIN:VEVENT
UID:52a1852ae4b081767bee021c@squarespace.com
DTSTAMP:20131206T082333Z
DTSTART:20000318T020000Z
DTEND:20000318T090000Z
SUMMARY:Wellington DANSS Competition 2000
END:VEVENT
END:VCALENDAR
