BEGIN:VCALENDAR
VERSION:2.0
PRODID:-//Squarespace Inc/Squarespace 6//v6//EN
BEGIN:VEVENT
UID:5655217ae4b022a250e82f52@squarespace.com
DTSTAMP:20151125T024843Z
DTSTART:20151129T070000Z
DTEND:20151129T080000Z
SUMMARY:Intermediate: Jive
END:VEVENT
END:VCALENDAR
