BEGIN:VCALENDAR
VERSION:2.0
PRODID:-//Squarespace Inc/Squarespace 6//v6//EN
BEGIN:VEVENT
UID:5655213ee4b022a250e82beb@squarespace.com
DTSTAMP:20151125T024808Z
DTSTART:20151129T060000Z
DTEND:20151129T070000Z
SUMMARY:Beginners: Quickstep
END:VEVENT
END:VCALENDAR
