BEGIN:VCALENDAR
VERSION:2.0
PRODID:-//Squarespace Inc/Squarespace 6//v6//EN
BEGIN:VEVENT
UID:564cfc44e4b082df3a4a1045@squarespace.com
DTSTAMP:20151118T223245Z
DTSTART:20151122T060000Z
DTEND:20151122T070000Z
SUMMARY:Beginners: Quickstep
END:VEVENT
END:VCALENDAR
