BEGIN:VCALENDAR
VERSION:2.0
PRODID:-//Squarespace Inc/Squarespace 6//v6//EN
BEGIN:VEVENT
UID:53cf6ad4e4b01edbad4ac05e@squarespace.com
DTSTAMP:20140723T075724Z
DTSTART:20140803T080000Z
DTEND:20140803T090000Z
SUMMARY:Intermediate Class: Charmaine
END:VEVENT
END:VCALENDAR
