BEGIN:VCALENDAR
VERSION:2.0
PRODID:-//Squarespace Inc/Squarespace 6//v6//EN
BEGIN:VEVENT
UID:53cf6a9ee4b099ad60b7bd3e@squarespace.com
DTSTAMP:20140723T075744Z
DTSTART:20140803T070000Z
DTEND:20140803T080000Z
SUMMARY:Beginner's Class: Cha Cha Cha
END:VEVENT
END:VCALENDAR
