BEGIN:VCALENDAR
VERSION:2.0
PRODID:-//Squarespace Inc/Squarespace 6//v6//EN
BEGIN:VEVENT
UID:53cf6bfee4b08a008b369146@squarespace.com
DTSTAMP:20140830T072418Z
DTSTART:20140928T070000Z
DTEND:20140928T080000Z
SUMMARY:Intermediate Class: Revision
END:VEVENT
END:VCALENDAR
