BEGIN:VCALENDAR
VERSION:2.0
PRODID:-//Squarespace Inc/Squarespace 6//v6//EN
BEGIN:VEVENT
UID:53cf6bdde4b08a008b36913d@squarespace.com
DTSTAMP:20140830T072358Z
DTSTART:20140928T060000Z
DTEND:20140928T070000Z
SUMMARY:Beginner's Class: Revision
END:VEVENT
END:VCALENDAR
