BEGIN:VCALENDAR
VERSION:2.0
PRODID:-//Squarespace Inc/Squarespace 6//v6//EN
BEGIN:VEVENT
UID:53cf6b5ee4b07647985d42b6@squarespace.com
DTSTAMP:20140830T072629Z
DTSTART:20140914T070000Z
DTEND:20140914T080000Z
SUMMARY:Beginner's Class: DANSS 2008 INC - AGM
END:VEVENT
END:VCALENDAR
