BEGIN:VCALENDAR
VERSION:2.0
PRODID:-//Squarespace Inc/Squarespace 6//v6//EN
BEGIN:VEVENT
UID:53cf6b2ee4b01edbad4ac08a@squarespace.com
DTSTAMP:20140830T072005Z
DTSTART:20140914T080000Z
DTEND:20140914T090000Z
SUMMARY:Intermediate Class: Rumba
END:VEVENT
END:VCALENDAR
