BEGIN:VCALENDAR
VERSION:2.0
PRODID:-//Squarespace Inc/Squarespace 6//v6//EN
BEGIN:VEVENT
UID:53cf6b01e4b01edbad4ac076@squarespace.com
DTSTAMP:20140723T075811Z
DTSTART:20140810T070000Z
DTEND:20140810T080000Z
SUMMARY:Beginner's Class: Tango
END:VEVENT
END:VCALENDAR
