BEGIN:VCALENDAR
VERSION:2.0
PRODID:-//Squarespace Inc/Squarespace 6//v6//EN
BEGIN:VEVENT
UID:539fed84e4b07425590192f0@squarespace.com
DTSTAMP:20140617T072657Z
DTSTART:20140706T070000Z
DTEND:20140706T080000Z
SUMMARY:Beginner's class: Tango
END:VEVENT
END:VCALENDAR
