BEGIN:VCALENDAR
VERSION:2.0
PRODID:-//Squarespace Inc/Squarespace 6//v6//EN
BEGIN:VEVENT
UID:53cf69ece4b04e6d69c43855@squarespace.com
DTSTAMP:20140830T071423Z
DTSTART:20140831T070000Z
DTEND:20140831T080000Z
SUMMARY:Beginner's Class: Rhythm Foxtrott / Samba
END:VEVENT
END:VCALENDAR
