BEGIN:VCALENDAR
VERSION:2.0
PRODID:-//Squarespace Inc/Squarespace 6//v6//EN
BEGIN:VEVENT
UID:539feedbe4b06eb49783a37c@squarespace.com
DTSTAMP:20140830T072912Z
DTSTART:20140921T070000Z
DTEND:20140921T080000Z
SUMMARY:Beginner's Class: Gypsy Tap
END:VEVENT
END:VCALENDAR
