BEGIN:VCALENDAR
VERSION:2.0
PRODID:-//Squarespace Inc/Squarespace 6//v6//EN
BEGIN:VEVENT
UID:539fee50e4b037955eb13b77@squarespace.com
DTSTAMP:20140617T073028Z
DTSTART:20140713T080000Z
DTEND:20140713T090000Z
SUMMARY:Intermediate Class: Merrylin
END:VEVENT
END:VCALENDAR
