BEGIN:VCALENDAR
VERSION:2.0
PRODID:-//Squarespace Inc/Squarespace 6//v6//EN
BEGIN:VEVENT
UID:539fee20e4b037955eb13b4e@squarespace.com
DTSTAMP:20140830T072943Z
DTSTART:20140921T080000Z
DTEND:20140921T090000Z
SUMMARY:Intermediate: English Foxtrot
END:VEVENT
END:VCALENDAR
