BEGIN:VCALENDAR
VERSION:2.0
PRODID:-//Squarespace Inc/Squarespace 6//v6//EN
BEGIN:VEVENT
UID:536da3c6e4b07afeea8d3b7b@squarespace.com
DTSTAMP:20140510T035953Z
DTSTART:20140608T080000Z
DTEND:20140608T090000Z
SUMMARY:Intermediate Class: Merilyn
END:VEVENT
END:VCALENDAR
