BEGIN:VCALENDAR
VERSION:2.0
PRODID:-//Squarespace Inc/Squarespace 6//v6//EN
BEGIN:VEVENT
UID:536da383e4b07afeea8d3aed@squarespace.com
DTSTAMP:20140510T035847Z
DTSTART:20140608T070000Z
DTEND:20140608T080000Z
SUMMARY:Beginner's Class: English Foxtrot
END:VEVENT
END:VCALENDAR
