BEGIN:VCALENDAR
VERSION:2.0
PRODID:-//Squarespace Inc/Squarespace 6//v6//EN
BEGIN:VEVENT
UID:539fec82e4b056bf8ed502b9@squarespace.com
DTSTAMP:20140617T072254Z
DTSTART:20140629T080000Z
DTEND:20140629T090000Z
SUMMARY:Intermediate Class: Charmaine
END:VEVENT
END:VCALENDAR
