BEGIN:VCALENDAR
VERSION:2.0
PRODID:-//Squarespace Inc/Squarespace 6//v6//EN
BEGIN:VEVENT
UID:539feae1e4b0b8ba0660efd9@squarespace.com
DTSTAMP:20140617T071802Z
DTSTART:20140622T070000Z
DTEND:20140622T080000Z
SUMMARY:Beginner's Class: Rhythm Foxtrot /Samba
END:VEVENT
END:VCALENDAR
