BEGIN:VCALENDAR
VERSION:2.0
PRODID:-//Squarespace Inc/Squarespace 6//v6//EN
BEGIN:VEVENT
UID:539feab7e4b0b8ba0660ef92@squarespace.com
DTSTAMP:20140830T071601Z
DTSTART:20140831T080000Z
DTEND:20140831T090000Z
SUMMARY:Intermediate Class: Waltz
END:VEVENT
END:VCALENDAR
