BEGIN:VCALENDAR
VERSION:2.0
PRODID:-//Squarespace Inc/Squarespace 6//v6//EN
BEGIN:VEVENT
UID:536da425e4b096ba2b584c44@squarespace.com
DTSTAMP:20140510T040145Z
DTSTART:20140615T080000Z
DTEND:20140615T090000Z
SUMMARY:Intermediate Class: Revision
END:VEVENT
END:VCALENDAR
