BEGIN:VCALENDAR
VERSION:2.0
PRODID:-//Squarespace Inc/Squarespace 6//v6//EN
BEGIN:VEVENT
UID:536da3f2e4b090c1388b308a@squarespace.com
DTSTAMP:20140510T040047Z
DTSTART:20140615T070000Z
DTEND:20140615T080000Z
SUMMARY:Beginner's Class: Revision
END:VEVENT
END:VCALENDAR
