BEGIN:VCALENDAR
VERSION:2.0
PRODID:-//Squarespace Inc/Squarespace 6//v6//EN
BEGIN:VEVENT
UID:536da327e4b0312f08447f95@squarespace.com
DTSTAMP:20140510T035732Z
DTSTART:20140601T070000Z
DTEND:20140601T080000Z
SUMMARY:NO CLASSES  on Queen's Birthday
END:VEVENT
END:VCALENDAR
