BEGIN:VCALENDAR
VERSION:2.0
PRODID:-//Squarespace Inc/Squarespace 6//v6//EN
BEGIN:VEVENT
UID:53361fdae4b0a1dc6f02c9c6@squarespace.com
DTSTAMP:20140329T012040Z
DTSTART:20140504T070000Z
DTEND:20140504T080000Z
SUMMARY:Beginners - REVISION
END:VEVENT
END:VCALENDAR
