BEGIN:VCALENDAR
VERSION:2.0
PRODID:-//Squarespace Inc/Squarespace 6//v6//EN
BEGIN:VEVENT
UID:536da2c8e4b02a530408a2b0@squarespace.com
DTSTAMP:20140510T035544Z
DTSTART:20140525T080000Z
DTEND:20140525T090000Z
SUMMARY:Intermediate Class: Samba / Rumba
END:VEVENT
END:VCALENDAR
