BEGIN:VCALENDAR
VERSION:2.0
PRODID:-//Squarespace Inc/Squarespace 6//v6//EN
BEGIN:VEVENT
UID:536da27ae4b090c1388b2f79@squarespace.com
DTSTAMP:20140510T035454Z
DTSTART:20140525T070000Z
DTEND:20140525T080000Z
SUMMARY:Beginner's Class: Charmaine
END:VEVENT
END:VCALENDAR
