BEGIN:VCALENDAR
VERSION:2.0
PRODID:-//Squarespace Inc/Squarespace 6//v6//EN
BEGIN:VEVENT
UID:536da21be4b074eafa4f4540@squarespace.com
DTSTAMP:20140510T035255Z
DTSTART:20140518T080000Z
DTEND:20140518T090000Z
SUMMARY:Intermediate Class: Waltz
END:VEVENT
END:VCALENDAR
