BEGIN:VCALENDAR
VERSION:2.0
PRODID:-//Squarespace Inc/Squarespace 6//v6//EN
BEGIN:VEVENT
UID:536d9c13e4b05e7b401d3a95@squarespace.com
DTSTAMP:20140510T032556Z
DTSTART:20140511T070000Z
DTEND:20140511T080000Z
SUMMARY:Beginner's Class: Tango
END:VEVENT
END:VCALENDAR
