BEGIN:VCALENDAR
VERSION:2.0
PRODID:-//Squarespace Inc/Squarespace 6//v6//EN
BEGIN:VEVENT
UID:53361ee9e4b0d0e7955a888e@squarespace.com
DTSTAMP:20140329T011643Z
DTSTART:20140406T080000Z
DTEND:20140406T090000Z
SUMMARY:Intermediate - Samba/Rumba
END:VEVENT
END:VCALENDAR
