BEGIN:VCALENDAR
VERSION:2.0
PRODID:-//Squarespace Inc/Squarespace 6//v6//EN
BEGIN:VEVENT
UID:53361ec7e4b0d0e7955a8863@squarespace.com
DTSTAMP:20140329T011610Z
DTSTART:20140406T070000Z
DTEND:20140406T080000Z
SUMMARY:Beginners - Charmaine
END:VEVENT
END:VCALENDAR
