BEGIN:VCALENDAR
VERSION:2.0
PRODID:-//Squarespace Inc/Squarespace 6//v6//EN
BEGIN:VEVENT
UID:53361fa3e4b0a1dc6f02c9a3@squarespace.com
DTSTAMP:20140329T011938Z
DTSTART:20140427T070000Z
DTEND:20140427T080000Z
SUMMARY:Beginners - Cha Cha Cha/Jive
END:VEVENT
END:VCALENDAR
