BEGIN:VCALENDAR
VERSION:2.0
PRODID:-//Squarespace Inc/Squarespace 6//v6//EN
BEGIN:VEVENT
UID:53361f70e4b035f75f28ef96@squarespace.com
DTSTAMP:20140329T011906Z
DTSTART:20140420T070000Z
DTEND:20140420T090000Z
SUMMARY:There will be No classes this weekend\, due to this being EASTER we
 ekend
END:VEVENT
END:VCALENDAR
