BEGIN:VCALENDAR
VERSION:2.0
PRODID:-//Squarespace Inc/Squarespace 6//v6//EN
BEGIN:VEVENT
UID:53361f51e4b035f75f28ef7c@squarespace.com
DTSTAMP:20140329T011818Z
DTSTART:20140413T080000Z
DTEND:20140413T090000Z
SUMMARY:Intermediate - Salsa
END:VEVENT
END:VCALENDAR
