BEGIN:VCALENDAR
VERSION:2.0
PRODID:-//Squarespace Inc/Squarespace 6//v6//EN
BEGIN:VEVENT
UID:53361f10e4b0cc9179042851@squarespace.com
DTSTAMP:20140329T011714Z
DTSTART:20140413T070000Z
DTEND:20140413T080000Z
SUMMARY:Beginners - Foxtrot
END:VEVENT
END:VCALENDAR
