BEGIN:VCALENDAR
VERSION:2.0
PRODID:-//Squarespace Inc/Squarespace 6//v6//EN
BEGIN:VEVENT
UID:5301b435e4b0c37a40021af4@squarespace.com
DTSTAMP:20140217T072006Z
DTSTART:20140302T071000Z
DTEND:20140302T080000Z
SUMMARY:Competitor Practice
END:VEVENT
END:VCALENDAR
