BEGIN:VCALENDAR
VERSION:2.0
PRODID:-//Squarespace Inc/Squarespace 6//v6//EN
BEGIN:VEVENT
UID:5301b6dae4b09a09003e7c53@squarespace.com
DTSTAMP:20140217T072317Z
DTSTART:20140309T071000Z
DTEND:20140309T080000Z
SUMMARY:Competitor Practice
END:VEVENT
END:VCALENDAR
