BEGIN:VCALENDAR
VERSION:2.0
PRODID:-//Squarespace Inc/Squarespace 6//v6//EN
BEGIN:VEVENT
UID:53361e53e4b0155af0a1602e@squarespace.com
DTSTAMP:20140329T011508Z
DTSTART:20140330T070000Z
DTEND:20140330T080000Z
SUMMARY:Intermediate - Waltz
END:VEVENT
END:VCALENDAR
