BEGIN:VCALENDAR
VERSION:2.0
PRODID:-//Squarespace Inc/Squarespace 6//v6//EN
BEGIN:VEVENT
UID:53361c21e4b0d0e7955a85f0@squarespace.com
DTSTAMP:20140329T011454Z
DTSTART:20140330T060000Z
DTEND:20140330T070000Z
SUMMARY:Beginners - Samba/Rumba
END:VEVENT
END:VCALENDAR
