BEGIN:VCALENDAR
VERSION:2.0
PRODID:-//Squarespace Inc/Squarespace 6//v6//EN
BEGIN:VEVENT
UID:5301b351e4b06573bf2b4a7d@squarespace.com
DTSTAMP:20140329T010342Z
DTSTART:20140302T060000Z
DTEND:20140302T070000Z
SUMMARY:Beginners Class
END:VEVENT
END:VCALENDAR
