BEGIN:VCALENDAR
VERSION:2.0
PRODID:-//Squarespace Inc/Squarespace 6//v6//EN
BEGIN:VEVENT
UID:5301b4e8e4b0b462a9691096@squarespace.com
DTSTAMP:20140329T010230Z
DTSTART:20140316T060000Z
DTEND:20140316T080000Z
SUMMARY:No Class or Practice after competition on 15 March
END:VEVENT
END:VCALENDAR
