BEGIN:VCALENDAR
VERSION:2.0
PRODID:-//Squarespace Inc/Squarespace 6//v6//EN
BEGIN:VEVENT
UID:53019f55e4b09d3054b26aba@squarespace.com
DTSTAMP:20140217T071655Z
DTSTART:20140223T060000Z
DTEND:20140223T070000Z
SUMMARY:Beginners Class
END:VEVENT
END:VCALENDAR
