BEGIN:VCALENDAR
VERSION:2.0
PRODID:-//Squarespace Inc/Squarespace 6//v6//EN
BEGIN:VEVENT
UID:5299771ce4b0c313de26bcb2@squarespace.com
DTSTAMP:20131206T073031Z
DTSTART:20140105T060000Z
DTEND:20140105T080000Z
SUMMARY:Competitor Practice
END:VEVENT
END:VCALENDAR
