BEGIN:VCALENDAR
VERSION:2.0
PRODID:-//Squarespace Inc/Squarespace 6//v6//EN
BEGIN:VEVENT
UID:5299777be4b0a5b6da06a862@squarespace.com
DTSTAMP:20131206T073048Z
DTSTART:20140119T060000Z
DTEND:20140119T080000Z
SUMMARY:Competitor Practice
END:VEVENT
END:VCALENDAR
